BEGIN:VCALENDAR
VERSION:2.0
PRODID:-//Take Defense - ECPv6.10.1.1//NONSGML v1.0//EN
CALSCALE:GREGORIAN
METHOD:PUBLISH
X-WR-CALNAME:Take Defense
X-ORIGINAL-URL:https://takedefense.org
X-WR-CALDESC:Events for Take Defense
REFRESH-INTERVAL;VALUE=DURATION:PT1H
X-Robots-Tag:noindex
X-PUBLISHED-TTL:PT1H
BEGIN:VTIMEZONE
TZID:UTC
BEGIN:STANDARD
TZOFFSETFROM:+0000
TZOFFSETTO:+0000
TZNAME:UTC
DTSTART:20180101T000000
END:STANDARD
END:VTIMEZONE
BEGIN:VEVENT
DTSTART;TZID=UTC:20180806T100000
DTEND;TZID=UTC:20180806T120000
DTSTAMP:20260423T121010
CREATED:20180711T230428Z
LAST-MODIFIED:20180717T235521Z
UID:992-1533549600-1533556800@takedefense.org
SUMMARY:Gladstone Community Center - 6901 N. Holmes Str.\, Gladstone\, MO
DESCRIPTION:
URL:https://takedefense.org/event/gladstone-community-center/
LOCATION:Gladstone Community Center\, 6901 N Holmes St.\, Gladstone\, 64118\, United States
ATTACH;FMTTYPE=image/png:https://takedefense.org/wp-content/uploads/Gladstone.png
END:VEVENT
BEGIN:VEVENT
DTSTART;TZID=UTC:20180804T100000
DTEND;TZID=UTC:20180804T120000
DTSTAMP:20260423T121010
CREATED:20180504T075210Z
LAST-MODIFIED:20180717T235611Z
UID:829-1533376800-1533384000@takedefense.org
SUMMARY:City of Paola - Paola Middle School 405 N. Hospital Dr. Paola\, KS
DESCRIPTION:
URL:https://takedefense.org/event/city-of-paola/
LOCATION:Paola Middle School\, 405 N. Hospital Dr.\, Paola\, KS
ATTACH;FMTTYPE=image/jpeg:https://takedefense.org/wp-content/uploads/Paola-Photo.jpg
END:VEVENT
BEGIN:VEVENT
DTSTART;TZID=UTC:20180721T100000
DTEND;TZID=UTC:20180721T120000
DTSTAMP:20260423T121010
CREATED:20180504T074906Z
LAST-MODIFIED:20180717T235642Z
UID:826-1532167200-1532174400@takedefense.org
SUMMARY:Matt Ross Community Center - 8101 Marty Str.\, Overland Park\, KS
DESCRIPTION:
URL:https://takedefense.org/event/matt-ross-community-center/
LOCATION:Matt Ross Community Center\, 8101 Marty Str.\, Overland Park\, KS\, 66204
ATTACH;FMTTYPE=image/jpeg:https://takedefense.org/wp-content/uploads/gallery71.jpg
END:VEVENT
BEGIN:VEVENT
DTSTART;TZID=UTC:20180714T100000
DTEND;TZID=UTC:20180714T120000
DTSTAMP:20260423T121010
CREATED:20180504T074140Z
LAST-MODIFIED:20180509T121638Z
UID:822-1531562400-1531569600@takedefense.org
SUMMARY:Blue Valley Recreation
DESCRIPTION:
URL:https://takedefense.org/event/blue-valley-recreation/
LOCATION:Aubry Bend Middle School\, Aubry Bend Middle School - 12501 W. 175th Street\, Overland Park\, KS\, United States
ATTACH;FMTTYPE=image/jpeg:https://takedefense.org/wp-content/uploads/Blue-Valley-Photo.jpg
END:VEVENT
END:VCALENDAR